{"text_format":"1","workbook":"xlsx","n_sheets":2,"sheets":["Resonanzen","Daten"],"not_rendered":{"charts":1,"images":6,"macros":1,"external_links":0,"defined_names":1,"comments":0,"pivot_tables":0},"unopened":[],"bounds":{"document_bytes":16777216,"sheet_cells":100000,"rows_first":2000,"rows_last":500,"rows_between":2000,"halvings":0,"cell_chars":16384,"cell_head_chars":4096},"cells_cut":0,"cells_raw":0,"read":"whole","date_system":"1900"}

{"sheet":"Resonanzen","index":0,"n_rows":21,"n_cols":5,"rows_kept":21,"cut":false,"hidden":false,"merged":[[3,0,3,1],[3,2,3,3],[3,4,3,5]]}
["Schallgeschwindigkeit c in m/s",null,340]
["Länge in m",null,1]
[]
["fest - fest",null,"fest - offen/lose",null,"lose/lose"]
[]
[]
[]
[]
[]
[]
[]
[]
[]
["Grund-/Oberwelle","λ in m","f in Hz"]
[0,{"$f":"IF($E$17,4*laenge/(2*A15+1),2*laenge/($A15+1))","v":2},{"$f":"$C$1/B15","v":170},null,true]
[1,{"$f":"IF($E$17,4*laenge/(2*A16+1),2*laenge/($A16+1))","v":1},{"$f":"$C$1/B16","v":340}]
[2,{"$f":"IF($E$17,4*laenge/(2*A17+1),2*laenge/($A17+1))","v":0.66666666666666663},510,null,false]
[3,{"$f":"IF($E$17,4*laenge/(2*A18+1),2*laenge/($A18+1))","v":0.5},680]
[4,{"$f":"IF($E$17,4*laenge/(2*A19+1),2*laenge/($A19+1))","v":0.4},850,null,false]
[]
["Beim Auswählen einer Zelle in der Frequenzspalte erklingt die Frequenz als Ton!"]

{"sheet":"Daten","index":1,"n_rows":57,"n_cols":6,"rows_kept":57,"cut":false,"hidden":false,"merged":[[5,1,5,5]]}
["Länge",1]
[]
["n",0,1,2,3,4]
["lambda",{"$f":"Resonanzen!B15","v":2},{"$f":"Resonanzen!B16","v":1},{"$f":"Resonanzen!B17","v":0.66666666666666663},{"$f":"Resonanzen!B18","v":0.5},{"$f":"Resonanzen!B19","v":0.4}]
[]
["x","u(x)"]
[0,{"$f":"IF(Resonanzen!$E$19,COS($A7*2*PI()/B$4),SIN($A7*2*PI()/B$4))","v":0},{"$f":"IF(Resonanzen!$E$19,COS($A7*2*PI()/C$4),SIN($A7*2*PI()/C$4))","v":0},{"$f":"IF(Resonanzen!$E$19,COS($A7*2*PI()/D$4),SIN($A7*2*PI()/D$4))","v":0},{"$f":"IF(Resonanzen!$E$19,COS($A7*2*PI()/E$4),SIN($A7*2*PI()/E$4))","v":0},{"$f":"IF(Resonanzen!$E$19,COS($A7*2*PI()/F$4),SIN($A7*2*PI()/F$4))","v":0}]
[{"$f":"A7+Resonanzen!$C$2/50","v":0.02},{"$f":"IF(Resonanzen!$E$19,COS($A8*2*PI()/B$4),SIN($A8*2*PI()/B$4))","v":6.2790519529313374E-2},{"$f":"IF(Resonanzen!$E$19,COS($A8*2*PI()/C$4),SIN($A8*2*PI()/C$4))","v":0.12533323356430426},{"$f":"IF(Resonanzen!$E$19,COS($A8*2*PI()/D$4),SIN($A8*2*PI()/D$4))","v":0.18738131458572463},{"$f":"IF(Resonanzen!$E$19,COS($A8*2*PI()/E$4),SIN($A8*2*PI()/E$4))","v":0.24868988716485479},{"$f":"IF(Resonanzen!$E$19,COS($A8*2*PI()/F$4),SIN($A8*2*PI()/F$4))","v":0.3090169943749474}]
[{"$f":"A8+Resonanzen!$C$2/50","v":0.04},{"$f":"IF(Resonanzen!$E$19,COS($A9*2*PI()/B$4),SIN($A9*2*PI()/B$4))","v":0.12533323356430426},{"$f":"IF(Resonanzen!$E$19,COS($A9*2*PI()/C$4),SIN($A9*2*PI()/C$4))","v":0.24868988716485479},{"$f":"IF(Resonanzen!$E$19,COS($A9*2*PI()/D$4),SIN($A9*2*PI()/D$4))","v":0.36812455268467797},{"$f":"IF(Resonanzen!$E$19,COS($A9*2*PI()/E$4),SIN($A9*2*PI()/E$4))","v":0.48175367410171532},{"$f":"IF(Resonanzen!$E$19,COS($A9*2*PI()/F$4),SIN($A9*2*PI()/F$4))","v":0.58778525229247314}]
[{"$f":"A9+Resonanzen!$C$2/50","v":0.06},{"$f":"IF(Resonanzen!$E$19,COS($A10*2*PI()/B$4),SIN($A10*2*PI()/B$4))","v":0.1873813145857246},{"$f":"IF(Resonanzen!$E$19,COS($A10*2*PI()/C$4),SIN($A10*2*PI()/C$4))","v":0.36812455268467792},{"$f":"IF(Resonanzen!$E$19,COS($A10*2*PI()/D$4),SIN($A10*2*PI()/D$4))","v":0.53582679497899666},{"$f":"IF(Resonanzen!$E$19,COS($A10*2*PI()/E$4),SIN($A10*2*PI()/E$4))","v":0.68454710592868862},{"$f":"IF(Resonanzen!$E$19,COS($A10*2*PI()/F$4),SIN($A10*2*PI()/F$4))","v":0.80901699437494734}]
[{"$f":"A10+Resonanzen!$C$2/50","v":0.08},{"$f":"IF(Resonanzen!$E$19,COS($A11*2*PI()/B$4),SIN($A11*2*PI()/B$4))","v":0.24868988716485479},{"$f":"IF(Resonanzen!$E$19,COS($A11*2*PI()/C$4),SIN($A11*2*PI()/C$4))","v":0.48175367410171532},{"$f":"IF(Resonanzen!$E$19,COS($A11*2*PI()/D$4),SIN($A11*2*PI()/D$4))","v":0.68454710592868873},{"$f":"IF(Resonanzen!$E$19,COS($A11*2*PI()/E$4),SIN($A11*2*PI()/E$4))","v":0.84432792550201508},{"$f":"IF(Resonanzen!$E$19,COS($A11*2*PI()/F$4),SIN($A11*2*PI()/F$4))","v":0.95105651629515353}]
[{"$f":"A11+Resonanzen!$C$2/50","v":0.1},{"$f":"IF(Resonanzen!$E$19,COS($A12*2*PI()/B$4),SIN($A12*2*PI()/B$4))","v":0.3090169943749474},{"$f":"IF(Resonanzen!$E$19,COS($A12*2*PI()/C$4),SIN($A12*2*PI()/C$4))","v":0.58778525229247314},{"$f":"IF(Resonanzen!$E$19,COS($A12*2*PI()/D$4),SIN($A12*2*PI()/D$4))","v":0.80901699437494745},{"$f":"IF(Resonanzen!$E$19,COS($A12*2*PI()/E$4),SIN($A12*2*PI()/E$4))","v":0.95105651629515353},{"$f":"IF(Resonanzen!$E$19,COS($A12*2*PI()/F$4),SIN($A12*2*PI()/F$4))","v":1}]
[{"$f":"A12+Resonanzen!$C$2/50","v":0.12000000000000001},{"$f":"IF(Resonanzen!$E$19,COS($A13*2*PI()/B$4),SIN($A13*2*PI()/B$4))","v":0.36812455268467797},{"$f":"IF(Resonanzen!$E$19,COS($A13*2*PI()/C$4),SIN($A13*2*PI()/C$4))","v":0.68454710592868873},{"$f":"IF(Resonanzen!$E$19,COS($A13*2*PI()/D$4),SIN($A13*2*PI()/D$4))","v":0.90482705246601958},{"$f":"IF(Resonanzen!$E$19,COS($A13*2*PI()/E$4),SIN($A13*2*PI()/E$4))","v":0.99802672842827156},{"$f":"IF(Resonanzen!$E$19,COS($A13*2*PI()/F$4),SIN($A13*2*PI()/F$4))","v":0.95105651629515364}]
[{"$f":"A13+Resonanzen!$C$2/50","v":0.14000000000000001},{"$f":"IF(Resonanzen!$E$19,COS($A14*2*PI()/B$4),SIN($A14*2*PI()/B$4))","v":0.42577929156507272},{"$f":"IF(Resonanzen!$E$19,COS($A14*2*PI()/C$4),SIN($A14*2*PI()/C$4))","v":0.77051324277578925},{"$f":"IF(Resonanzen!$E$19,COS($A14*2*PI()/D$4),SIN($A14*2*PI()/D$4))","v":0.96858316112863119},{"$f":"IF(Resonanzen!$E$19,COS($A14*2*PI()/E$4),SIN($A14*2*PI()/E$4))","v":0.98228725072868861},{"$f":"IF(Resonanzen!$E$19,COS($A14*2*PI()/F$4),SIN($A14*2*PI()/F$4))","v":0.80901699437494745}]
[{"$f":"A14+Resonanzen!$C$2/50","v":0.16},{"$f":"IF(Resonanzen!$E$19,COS($A15*2*PI()/B$4),SIN($A15*2*PI()/B$4))","v":0.48175367410171532},{"$f":"IF(Resonanzen!$E$19,COS($A15*2*PI()/C$4),SIN($A15*2*PI()/C$4))","v":0.84432792550201508},{"$f":"IF(Resonanzen!$E$19,COS($A15*2*PI()/D$4),SIN($A15*2*PI()/D$4))","v":0.99802672842827156},{"$f":"IF(Resonanzen!$E$19,COS($A15*2*PI()/E$4),SIN($A15*2*PI()/E$4))","v":0.90482705246601947},{"$f":"IF(Resonanzen!$E$19,COS($A15*2*PI()/F$4),SIN($A15*2*PI()/F$4))","v":0.58778525229247325}]
[{"$f":"A15+Resonanzen!$C$2/50","v":0.18},{"$f":"IF(Resonanzen!$E$19,COS($A16*2*PI()/B$4),SIN($A16*2*PI()/B$4))","v":0.53582679497899666},{"$f":"IF(Resonanzen!$E$19,COS($A16*2*PI()/C$4),SIN($A16*2*PI()/C$4))","v":0.90482705246601958},{"$f":"IF(Resonanzen!$E$19,COS($A16*2*PI()/D$4),SIN($A16*2*PI()/D$4))","v":0.99211470131447776},{"$f":"IF(Resonanzen!$E$19,COS($A16*2*PI()/E$4),SIN($A16*2*PI()/E$4))","v":0.77051324277578925},{"$f":"IF(Resonanzen!$E$19,COS($A16*2*PI()/F$4),SIN($A16*2*PI()/F$4))","v":0.30901699437494751}]
[{"$f":"A16+Resonanzen!$C$2/50","v":0.19999999999999998},{"$f":"IF(Resonanzen!$E$19,COS($A17*2*PI()/B$4),SIN($A17*2*PI()/B$4))","v":0.58778525229247314},{"$f":"IF(Resonanzen!$E$19,COS($A17*2*PI()/C$4),SIN($A17*2*PI()/C$4))","v":0.95105651629515353},{"$f":"IF(Resonanzen!$E$19,COS($A17*2*PI()/D$4),SIN($A17*2*PI()/D$4))","v":0.95105651629515364},{"$f":"IF(Resonanzen!$E$19,COS($A17*2*PI()/E$4),SIN($A17*2*PI()/E$4))","v":0.58778525229247325},{"$f":"IF(Resonanzen!$E$19,COS($A17*2*PI()/F$4),SIN($A17*2*PI()/F$4))","v":1.22514845490862E-16}]
[{"$f":"A17+Resonanzen!$C$2/50","v":0.21999999999999997},{"$f":"IF(Resonanzen!$E$19,COS($A18*2*PI()/B$4),SIN($A18*2*PI()/B$4))","v":0.63742398974868963},{"$f":"IF(Resonanzen!$E$19,COS($A18*2*PI()/C$4),SIN($A18*2*PI()/C$4))","v":0.98228725072868861},{"$f":"IF(Resonanzen!$E$19,COS($A18*2*PI()/D$4),SIN($A18*2*PI()/D$4))","v":0.87630668004386369},{"$f":"IF(Resonanzen!$E$19,COS($A18*2*PI()/E$4),SIN($A18*2*PI()/E$4))","v":0.36812455268467853},{"$f":"IF(Resonanzen!$E$19,COS($A18*2*PI()/F$4),SIN($A18*2*PI()/F$4))","v":-0.30901699437494645}]
[{"$f":"A18+Resonanzen!$C$2/50","v":0.23999999999999996},{"$f":"IF(Resonanzen!$E$19,COS($A19*2*PI()/B$4),SIN($A19*2*PI()/B$4))","v":0.6845471059286885},{"$f":"IF(Resonanzen!$E$19,COS($A19*2*PI()/C$4),SIN($A19*2*PI()/C$4))","v":0.99802672842827156},{"$f":"IF(Resonanzen!$E$19,COS($A19*2*PI()/D$4),SIN($A19*2*PI()/D$4))","v":0.77051324277578948},{"$f":"IF(Resonanzen!$E$19,COS($A19*2*PI()/E$4),SIN($A19*2*PI()/E$4))","v":0.12533323356430498},{"$f":"IF(Resonanzen!$E$19,COS($A19*2*PI()/F$4),SIN($A19*2*PI()/F$4))","v":-0.58778525229247225}]
[{"$f":"A19+Resonanzen!$C$2/50","v":0.25999999999999995},{"$f":"IF(Resonanzen!$E$19,COS($A20*2*PI()/B$4),SIN($A20*2*PI()/B$4))","v":0.72896862742141133},{"$f":"IF(Resonanzen!$E$19,COS($A20*2*PI()/C$4),SIN($A20*2*PI()/C$4))","v":0.99802672842827156},{"$f":"IF(Resonanzen!$E$19,COS($A20*2*PI()/D$4),SIN($A20*2*PI()/D$4))","v":0.63742398974869019},{"$f":"IF(Resonanzen!$E$19,COS($A20*2*PI()/E$4),SIN($A20*2*PI()/E$4))","v":-0.12533323356430343},{"$f":"IF(Resonanzen!$E$19,COS($A20*2*PI()/F$4),SIN($A20*2*PI()/F$4))","v":-0.80901699437494679}]
[{"$f":"A20+Resonanzen!$C$2/50","v":0.27999999999999997},{"$f":"IF(Resonanzen!$E$19,COS($A21*2*PI()/B$4),SIN($A21*2*PI()/B$4))","v":0.77051324277578914},{"$f":"IF(Resonanzen!$E$19,COS($A21*2*PI()/C$4),SIN($A21*2*PI()/C$4))","v":0.98228725072868872},{"$f":"IF(Resonanzen!$E$19,COS($A21*2*PI()/D$4),SIN($A21*2*PI()/D$4))","v":0.4817536741017156},{"$f":"IF(Resonanzen!$E$19,COS($A21*2*PI()/E$4),SIN($A21*2*PI()/E$4))","v":-0.36812455268467748},{"$f":"IF(Resonanzen!$E$19,COS($A21*2*PI()/F$4),SIN($A21*2*PI()/F$4))","v":-0.9510565162951532}]
[{"$f":"A21+Resonanzen!$C$2/50","v":0.3},{"$f":"IF(Resonanzen!$E$19,COS($A22*2*PI()/B$4),SIN($A22*2*PI()/B$4))","v":0.80901699437494745},{"$f":"IF(Resonanzen!$E$19,COS($A22*2*PI()/C$4),SIN($A22*2*PI()/C$4))","v":0.95105651629515364},{"$f":"IF(Resonanzen!$E$19,COS($A22*2*PI()/D$4),SIN($A22*2*PI()/D$4))","v":0.30901699437494751},{"$f":"IF(Resonanzen!$E$19,COS($A22*2*PI()/E$4),SIN($A22*2*PI()/E$4))","v":-0.58778525229247303},{"$f":"IF(Resonanzen!$E$19,COS($A22*2*PI()/F$4),SIN($A22*2*PI()/F$4))","v":-1}]
[{"$f":"A22+Resonanzen!$C$2/50","v":0.32},{"$f":"IF(Resonanzen!$E$19,COS($A23*2*PI()/B$4),SIN($A23*2*PI()/B$4))","v":0.84432792550201508},{"$f":"IF(Resonanzen!$E$19,COS($A23*2*PI()/C$4),SIN($A23*2*PI()/C$4))","v":0.90482705246601947},{"$f":"IF(Resonanzen!$E$19,COS($A23*2*PI()/D$4),SIN($A23*2*PI()/D$4))","v":0.12533323356430409},{"$f":"IF(Resonanzen!$E$19,COS($A23*2*PI()/E$4),SIN($A23*2*PI()/E$4))","v":-0.77051324277578936},{"$f":"IF(Resonanzen!$E$19,COS($A23*2*PI()/F$4),SIN($A23*2*PI()/F$4))","v":-0.95105651629515364}]
[{"$f":"A23+Resonanzen!$C$2/50","v":0.34},{"$f":"IF(Resonanzen!$E$19,COS($A24*2*PI()/B$4),SIN($A24*2*PI()/B$4))","v":0.87630668004386369},{"$f":"IF(Resonanzen!$E$19,COS($A24*2*PI()/C$4),SIN($A24*2*PI()/C$4))","v":0.84432792550201496},{"$f":"IF(Resonanzen!$E$19,COS($A24*2*PI()/D$4),SIN($A24*2*PI()/D$4))","v":-6.2790519529313776E-2},{"$f":"IF(Resonanzen!$E$19,COS($A24*2*PI()/E$4),SIN($A24*2*PI()/E$4))","v":-0.9048270524660198},{"$f":"IF(Resonanzen!$E$19,COS($A24*2*PI()/F$4),SIN($A24*2*PI()/F$4))","v":-0.80901699437494701}]
[{"$f":"A24+Resonanzen!$C$2/50","v":0.36000000000000004},{"$f":"IF(Resonanzen!$E$19,COS($A25*2*PI()/B$4),SIN($A25*2*PI()/B$4))","v":0.90482705246601958},{"$f":"IF(Resonanzen!$E$19,COS($A25*2*PI()/C$4),SIN($A25*2*PI()/C$4))","v":0.77051324277578925},{"$f":"IF(Resonanzen!$E$19,COS($A25*2*PI()/D$4),SIN($A25*2*PI()/D$4))","v":-0.24868988716485502},{"$f":"IF(Resonanzen!$E$19,COS($A25*2*PI()/E$4),SIN($A25*2*PI()/E$4))","v":-0.98228725072868872},{"$f":"IF(Resonanzen!$E$19,COS($A25*2*PI()/F$4),SIN($A25*2*PI()/F$4))","v":-0.58778525229247336}]
[{"$f":"A25+Resonanzen!$C$2/50","v":0.38000000000000006},{"$f":"IF(Resonanzen!$E$19,COS($A26*2*PI()/B$4),SIN($A26*2*PI()/B$4))","v":0.92977648588825146},{"$f":"IF(Resonanzen!$E$19,COS($A26*2*PI()/C$4),SIN($A26*2*PI()/C$4))","v":0.6845471059286885},{"$f":"IF(Resonanzen!$E$19,COS($A26*2*PI()/D$4),SIN($A26*2*PI()/D$4))","v":-0.4257792915650731},{"$f":"IF(Resonanzen!$E$19,COS($A26*2*PI()/E$4),SIN($A26*2*PI()/E$4))","v":-0.99802672842827156},{"$f":"IF(Resonanzen!$E$19,COS($A26*2*PI()/F$4),SIN($A26*2*PI()/F$4))","v":-0.30901699437494762}]
[{"$f":"A26+Resonanzen!$C$2/50","v":0.40000000000000008},{"$f":"IF(Resonanzen!$E$19,COS($A27*2*PI()/B$4),SIN($A27*2*PI()/B$4))","v":0.95105651629515364},{"$f":"IF(Resonanzen!$E$19,COS($A27*2*PI()/C$4),SIN($A27*2*PI()/C$4))","v":0.5877852522924728},{"$f":"IF(Resonanzen!$E$19,COS($A27*2*PI()/D$4),SIN($A27*2*PI()/D$4))","v":-0.58778525229247369},{"$f":"IF(Resonanzen!$E$19,COS($A27*2*PI()/E$4),SIN($A27*2*PI()/E$4))","v":-0.95105651629515331},{"$f":"IF(Resonanzen!$E$19,COS($A27*2*PI()/F$4),SIN($A27*2*PI()/F$4))","v":6.4314872871840123E-16}]
[{"$f":"A27+Resonanzen!$C$2/50","v":0.4200000000000001},{"$f":"IF(Resonanzen!$E$19,COS($A28*2*PI()/B$4),SIN($A28*2*PI()/B$4))","v":0.96858316112863119},{"$f":"IF(Resonanzen!$E$19,COS($A28*2*PI()/C$4),SIN($A28*2*PI()/C$4))","v":0.48175367410171482},{"$f":"IF(Resonanzen!$E$19,COS($A28*2*PI()/D$4),SIN($A28*2*PI()/D$4))","v":-0.72896862742141222},{"$f":"IF(Resonanzen!$E$19,COS($A28*2*PI()/E$4),SIN($A28*2*PI()/E$4))","v":-0.84432792550201452},{"$f":"IF(Resonanzen!$E$19,COS($A28*2*PI()/F$4),SIN($A28*2*PI()/F$4))","v":0.30901699437494801}]
[{"$f":"A28+Resonanzen!$C$2/50","v":0.44000000000000011},{"$f":"IF(Resonanzen!$E$19,COS($A29*2*PI()/B$4),SIN($A29*2*PI()/B$4))","v":0.98228725072868872},{"$f":"IF(Resonanzen!$E$19,COS($A29*2*PI()/C$4),SIN($A29*2*PI()/C$4))","v":0.36812455268467731},{"$f":"IF(Resonanzen!$E$19,COS($A29*2*PI()/D$4),SIN($A29*2*PI()/D$4))","v":-0.84432792550201574},{"$f":"IF(Resonanzen!$E$19,COS($A29*2*PI()/E$4),SIN($A29*2*PI()/E$4))","v":-0.68454710592868762},{"$f":"IF(Resonanzen!$E$19,COS($A29*2*PI()/F$4),SIN($A29*2*PI()/F$4))","v":0.58778525229247436}]
[{"$f":"A29+Resonanzen!$C$2/50","v":0.46000000000000013},{"$f":"IF(Resonanzen!$E$19,COS($A30*2*PI()/B$4),SIN($A30*2*PI()/B$4))","v":0.99211470131447788},{"$f":"IF(Resonanzen!$E$19,COS($A30*2*PI()/C$4),SIN($A30*2*PI()/C$4))","v":0.24868988716485396},{"$f":"IF(Resonanzen!$E$19,COS($A30*2*PI()/D$4),SIN($A30*2*PI()/D$4))","v":-0.92977648588825212},{"$f":"IF(Resonanzen!$E$19,COS($A30*2*PI()/E$4),SIN($A30*2*PI()/E$4))","v":-0.48175367410171377},{"$f":"IF(Resonanzen!$E$19,COS($A30*2*PI()/F$4),SIN($A30*2*PI()/F$4))","v":0.80901699437494834}]
[{"$f":"A30+Resonanzen!$C$2/50","v":0.48000000000000015},{"$f":"IF(Resonanzen!$E$19,COS($A31*2*PI()/B$4),SIN($A31*2*PI()/B$4))","v":0.99802672842827156},{"$f":"IF(Resonanzen!$E$19,COS($A31*2*PI()/C$4),SIN($A31*2*PI()/C$4))","v":0.1253332335643032},{"$f":"IF(Resonanzen!$E$19,COS($A31*2*PI()/D$4),SIN($A31*2*PI()/D$4))","v":-0.98228725072868905},{"$f":"IF(Resonanzen!$E$19,COS($A31*2*PI()/E$4),SIN($A31*2*PI()/E$4))","v":-0.24868988716485277},{"$f":"IF(Resonanzen!$E$19,COS($A31*2*PI()/F$4),SIN($A31*2*PI()/F$4))","v":0.95105651629515431}]
[{"$f":"A31+Resonanzen!$C$2/50","v":0.50000000000000011},{"$f":"IF(Resonanzen!$E$19,COS($A32*2*PI()/B$4),SIN($A32*2*PI()/B$4))","v":1},{"$f":"IF(Resonanzen!$E$19,COS($A32*2*PI()/C$4),SIN($A32*2*PI()/C$4))","v":-7.6566357420926323E-16},{"$f":"IF(Resonanzen!$E$19,COS($A32*2*PI()/D$4),SIN($A32*2*PI()/D$4))","v":-1},{"$f":"IF(Resonanzen!$E$19,COS($A32*2*PI()/E$4),SIN($A32*2*PI()/E$4))","v":1.5313271484185265E-15},{"$f":"IF(Resonanzen!$E$19,COS($A32*2*PI()/F$4),SIN($A32*2*PI()/F$4))","v":1}]
[{"$f":"A32+Resonanzen!$C$2/50","v":0.52000000000000013},{"$f":"IF(Resonanzen!$E$19,COS($A33*2*PI()/B$4),SIN($A33*2*PI()/B$4))","v":0.99802672842827156},{"$f":"IF(Resonanzen!$E$19,COS($A33*2*PI()/C$4),SIN($A33*2*PI()/C$4))","v":-0.12533323356430473},{"$f":"IF(Resonanzen!$E$19,COS($A33*2*PI()/D$4),SIN($A33*2*PI()/D$4))","v":-0.98228725072868839},{"$f":"IF(Resonanzen!$E$19,COS($A33*2*PI()/E$4),SIN($A33*2*PI()/E$4))","v":0.24868988716485574},{"$f":"IF(Resonanzen!$E$19,COS($A33*2*PI()/F$4),SIN($A33*2*PI()/F$4))","v":0.95105651629515309}]
[{"$f":"A33+Resonanzen!$C$2/50","v":0.54000000000000015},{"$f":"IF(Resonanzen!$E$19,COS($A34*2*PI()/B$4),SIN($A34*2*PI()/B$4))","v":0.99211470131447776},{"$f":"IF(Resonanzen!$E$19,COS($A34*2*PI()/C$4),SIN($A34*2*PI()/C$4))","v":-0.24868988716485543},{"$f":"IF(Resonanzen!$E$19,COS($A34*2*PI()/D$4),SIN($A34*2*PI()/D$4))","v":-0.9297764858882509},{"$f":"IF(Resonanzen!$E$19,COS($A34*2*PI()/E$4),SIN($A34*2*PI()/E$4))","v":0.48175367410171643},{"$f":"IF(Resonanzen!$E$19,COS($A34*2*PI()/F$4),SIN($A34*2*PI()/F$4))","v":0.80901699437494656}]
[{"$f":"A34+Resonanzen!$C$2/50","v":0.56000000000000016},{"$f":"IF(Resonanzen!$E$19,COS($A35*2*PI()/B$4),SIN($A35*2*PI()/B$4))","v":0.98228725072868861},{"$f":"IF(Resonanzen!$E$19,COS($A35*2*PI()/C$4),SIN($A35*2*PI()/C$4))","v":-0.36812455268467875},{"$f":"IF(Resonanzen!$E$19,COS($A35*2*PI()/D$4),SIN($A35*2*PI()/D$4))","v":-0.84432792550201408},{"$f":"IF(Resonanzen!$E$19,COS($A35*2*PI()/E$4),SIN($A35*2*PI()/E$4))","v":0.68454710592868995},{"$f":"IF(Resonanzen!$E$19,COS($A35*2*PI()/F$4),SIN($A35*2*PI()/F$4))","v":0.58778525229247192}]
[{"$f":"A35+Resonanzen!$C$2/50","v":0.58000000000000018},{"$f":"IF(Resonanzen!$E$19,COS($A36*2*PI()/B$4),SIN($A36*2*PI()/B$4))","v":0.96858316112863097},{"$f":"IF(Resonanzen!$E$19,COS($A36*2*PI()/C$4),SIN($A36*2*PI()/C$4))","v":-0.48175367410171616},{"$f":"IF(Resonanzen!$E$19,COS($A36*2*PI()/D$4),SIN($A36*2*PI()/D$4))","v":-0.72896862742141033},{"$f":"IF(Resonanzen!$E$19,COS($A36*2*PI()/E$4),SIN($A36*2*PI()/E$4))","v":0.84432792550201619},{"$f":"IF(Resonanzen!$E$19,COS($A36*2*PI()/F$4),SIN($A36*2*PI()/F$4))","v":0.30901699437494606}]
[{"$f":"A36+Resonanzen!$C$2/50","v":0.6000000000000002},{"$f":"IF(Resonanzen!$E$19,COS($A37*2*PI()/B$4),SIN($A37*2*PI()/B$4))","v":0.95105651629515342},{"$f":"IF(Resonanzen!$E$19,COS($A37*2*PI()/C$4),SIN($A37*2*PI()/C$4))","v":-0.58778525229247414},{"$f":"IF(Resonanzen!$E$19,COS($A37*2*PI()/D$4),SIN($A37*2*PI()/D$4))","v":-0.58778525229247114},{"$f":"IF(Resonanzen!$E$19,COS($A37*2*PI()/E$4),SIN($A37*2*PI()/E$4))","v":0.95105651629515431},{"$f":"IF(Resonanzen!$E$19,COS($A37*2*PI()/F$4),SIN($A37*2*PI()/F$4))","v":-3.1851691423279149E-15}]
[{"$f":"A37+Resonanzen!$C$2/50","v":0.62000000000000022},{"$f":"IF(Resonanzen!$E$19,COS($A38*2*PI()/B$4),SIN($A38*2*PI()/B$4))","v":0.92977648588825113},{"$f":"IF(Resonanzen!$E$19,COS($A38*2*PI()/C$4),SIN($A38*2*PI()/C$4))","v":-0.68454710592868961},{"$f":"IF(Resonanzen!$E$19,COS($A38*2*PI()/D$4),SIN($A38*2*PI()/D$4))","v":-0.42577929156507061},{"$f":"IF(Resonanzen!$E$19,COS($A38*2*PI()/E$4),SIN($A38*2*PI()/E$4))","v":0.99802672842827178},{"$f":"IF(Resonanzen!$E$19,COS($A38*2*PI()/F$4),SIN($A38*2*PI()/F$4))","v":-0.30901699437495045}]
[{"$f":"A38+Resonanzen!$C$2/50","v":0.64000000000000024},{"$f":"IF(Resonanzen!$E$19,COS($A39*2*PI()/B$4),SIN($A39*2*PI()/B$4))","v":0.90482705246601924},{"$f":"IF(Resonanzen!$E$19,COS($A39*2*PI()/C$4),SIN($A39*2*PI()/C$4))","v":-0.77051324277578992},{"$f":"IF(Resonanzen!$E$19,COS($A39*2*PI()/D$4),SIN($A39*2*PI()/D$4))","v":-0.24868988716485277},{"$f":"IF(Resonanzen!$E$19,COS($A39*2*PI()/E$4),SIN($A39*2*PI()/E$4))","v":0.98228725072868828},{"$f":"IF(Resonanzen!$E$19,COS($A39*2*PI()/F$4),SIN($A39*2*PI()/F$4))","v":-0.58778525229247425}]
[{"$f":"A39+Resonanzen!$C$2/50","v":0.66000000000000025},{"$f":"IF(Resonanzen!$E$19,COS($A40*2*PI()/B$4),SIN($A40*2*PI()/B$4))","v":0.87630668004386325},{"$f":"IF(Resonanzen!$E$19,COS($A40*2*PI()/C$4),SIN($A40*2*PI()/C$4))","v":-0.84432792550201574},{"$f":"IF(Resonanzen!$E$19,COS($A40*2*PI()/D$4),SIN($A40*2*PI()/D$4))","v":-6.2790519529311487E-2},{"$f":"IF(Resonanzen!$E$19,COS($A40*2*PI()/E$4),SIN($A40*2*PI()/E$4))","v":0.90482705246601847},{"$f":"IF(Resonanzen!$E$19,COS($A40*2*PI()/F$4),SIN($A40*2*PI()/F$4))","v":-0.80901699437494923}]
[{"$f":"A40+Resonanzen!$C$2/50","v":0.68000000000000027},{"$f":"IF(Resonanzen!$E$19,COS($A41*2*PI()/B$4),SIN($A41*2*PI()/B$4))","v":0.84432792550201474},{"$f":"IF(Resonanzen!$E$19,COS($A41*2*PI()/C$4),SIN($A41*2*PI()/C$4))","v":-0.90482705246602013},{"$f":"IF(Resonanzen!$E$19,COS($A41*2*PI()/D$4),SIN($A41*2*PI()/D$4))","v":0.12533323356430681},{"$f":"IF(Resonanzen!$E$19,COS($A41*2*PI()/E$4),SIN($A41*2*PI()/E$4))","v":0.77051324277578737},{"$f":"IF(Resonanzen!$E$19,COS($A41*2*PI()/F$4),SIN($A41*2*PI()/F$4))","v":-0.95105651629515453}]
[{"$f":"A41+Resonanzen!$C$2/50","v":0.70000000000000029},{"$f":"IF(Resonanzen!$E$19,COS($A42*2*PI()/B$4),SIN($A42*2*PI()/B$4))","v":0.80901699437494701},{"$f":"IF(Resonanzen!$E$19,COS($A42*2*PI()/C$4),SIN($A42*2*PI()/C$4))","v":-0.95105651629515409},{"$f":"IF(Resonanzen!$E$19,COS($A42*2*PI()/D$4),SIN($A42*2*PI()/D$4))","v":0.30901699437494973},{"$f":"IF(Resonanzen!$E$19,COS($A42*2*PI()/E$4),SIN($A42*2*PI()/E$4))","v":0.58778525229247058},{"$f":"IF(Resonanzen!$E$19,COS($A42*2*PI()/F$4),SIN($A42*2*PI()/F$4))","v":-1}]
[{"$f":"A42+Resonanzen!$C$2/50","v":0.72000000000000031},{"$f":"IF(Resonanzen!$E$19,COS($A43*2*PI()/B$4),SIN($A43*2*PI()/B$4))","v":0.7705132427757887},{"$f":"IF(Resonanzen!$E$19,COS($A43*2*PI()/C$4),SIN($A43*2*PI()/C$4))","v":-0.98228725072868905},{"$f":"IF(Resonanzen!$E$19,COS($A43*2*PI()/D$4),SIN($A43*2*PI()/D$4))","v":0.48175367410171799},{"$f":"IF(Resonanzen!$E$19,COS($A43*2*PI()/E$4),SIN($A43*2*PI()/E$4))","v":0.36812455268467464},{"$f":"IF(Resonanzen!$E$19,COS($A43*2*PI()/F$4),SIN($A43*2*PI()/F$4))","v":-0.95105651629515264}]
[{"$f":"A43+Resonanzen!$C$2/50","v":0.74000000000000032},{"$f":"IF(Resonanzen!$E$19,COS($A44*2*PI()/B$4),SIN($A44*2*PI()/B$4))","v":0.72896862742141089},{"$f":"IF(Resonanzen!$E$19,COS($A44*2*PI()/C$4),SIN($A44*2*PI()/C$4))","v":-0.99802672842827167},{"$f":"IF(Resonanzen!$E$19,COS($A44*2*PI()/D$4),SIN($A44*2*PI()/D$4))","v":0.63742398974869197},{"$f":"IF(Resonanzen!$E$19,COS($A44*2*PI()/E$4),SIN($A44*2*PI()/E$4))","v":0.12533323356430037},{"$f":"IF(Resonanzen!$E$19,COS($A44*2*PI()/F$4),SIN($A44*2*PI()/F$4))","v":-0.80901699437494456}]
[{"$f":"A44+Resonanzen!$C$2/50","v":0.76000000000000034},{"$f":"IF(Resonanzen!$E$19,COS($A45*2*PI()/B$4),SIN($A45*2*PI()/B$4))","v":0.68454710592868795},{"$f":"IF(Resonanzen!$E$19,COS($A45*2*PI()/C$4),SIN($A45*2*PI()/C$4))","v":-0.99802672842827145},{"$f":"IF(Resonanzen!$E$19,COS($A45*2*PI()/D$4),SIN($A45*2*PI()/D$4))","v":0.77051324277579158},{"$f":"IF(Resonanzen!$E$19,COS($A45*2*PI()/E$4),SIN($A45*2*PI()/E$4))","v":-0.12533323356430845},{"$f":"IF(Resonanzen!$E$19,COS($A45*2*PI()/F$4),SIN($A45*2*PI()/F$4))","v":-0.58778525229246914}]
[{"$f":"A45+Resonanzen!$C$2/50","v":0.78000000000000036},{"$f":"IF(Resonanzen!$E$19,COS($A46*2*PI()/B$4),SIN($A46*2*PI()/B$4))","v":0.63742398974868886},{"$f":"IF(Resonanzen!$E$19,COS($A46*2*PI()/C$4),SIN($A46*2*PI()/C$4))","v":-0.98228725072868828},{"$f":"IF(Resonanzen!$E$19,COS($A46*2*PI()/D$4),SIN($A46*2*PI()/D$4))","v":0.87630668004386525},{"$f":"IF(Resonanzen!$E$19,COS($A46*2*PI()/E$4),SIN($A46*2*PI()/E$4))","v":-0.36812455268468225},{"$f":"IF(Resonanzen!$E$19,COS($A46*2*PI()/F$4),SIN($A46*2*PI()/F$4))","v":-0.30901699437494279}]
[{"$f":"A46+Resonanzen!$C$2/50","v":0.80000000000000038},{"$f":"IF(Resonanzen!$E$19,COS($A47*2*PI()/B$4),SIN($A47*2*PI()/B$4))","v":0.58778525229247214},{"$f":"IF(Resonanzen!$E$19,COS($A47*2*PI()/C$4),SIN($A47*2*PI()/C$4))","v":-0.95105651629515275},{"$f":"IF(Resonanzen!$E$19,COS($A47*2*PI()/D$4),SIN($A47*2*PI()/D$4))","v":0.95105651629515486},{"$f":"IF(Resonanzen!$E$19,COS($A47*2*PI()/E$4),SIN($A47*2*PI()/E$4))","v":-0.58778525229247713},{"$f":"IF(Resonanzen!$E$19,COS($A47*2*PI()/F$4),SIN($A47*2*PI()/F$4))","v":4.8390111362373034E-15}]
[{"$f":"A47+Resonanzen!$C$2/50","v":0.8200000000000004},{"$f":"IF(Resonanzen!$E$19,COS($A48*2*PI()/B$4),SIN($A48*2*PI()/B$4))","v":0.53582679497899555},{"$f":"IF(Resonanzen!$E$19,COS($A48*2*PI()/C$4),SIN($A48*2*PI()/C$4))","v":-0.90482705246601836},{"$f":"IF(Resonanzen!$E$19,COS($A48*2*PI()/D$4),SIN($A48*2*PI()/D$4))","v":0.99211470131447832},{"$f":"IF(Resonanzen!$E$19,COS($A48*2*PI()/E$4),SIN($A48*2*PI()/E$4))","v":-0.77051324277579258},{"$f":"IF(Resonanzen!$E$19,COS($A48*2*PI()/F$4),SIN($A48*2*PI()/F$4))","v":0.30901699437495372}]
[{"$f":"A48+Resonanzen!$C$2/50","v":0.84000000000000041},{"$f":"IF(Resonanzen!$E$19,COS($A49*2*PI()/B$4),SIN($A49*2*PI()/B$4))","v":0.48175367410171405},{"$f":"IF(Resonanzen!$E$19,COS($A49*2*PI()/C$4),SIN($A49*2*PI()/C$4))","v":-0.84432792550201352},{"$f":"IF(Resonanzen!$E$19,COS($A49*2*PI()/D$4),SIN($A49*2*PI()/D$4))","v":0.99802672842827123},{"$f":"IF(Resonanzen!$E$19,COS($A49*2*PI()/E$4),SIN($A49*2*PI()/E$4))","v":-0.90482705246602191},{"$f":"IF(Resonanzen!$E$19,COS($A49*2*PI()/F$4),SIN($A49*2*PI()/F$4))","v":0.58778525229247847}]
[{"$f":"A49+Resonanzen!$C$2/50","v":0.86000000000000043},{"$f":"IF(Resonanzen!$E$19,COS($A50*2*PI()/B$4),SIN($A50*2*PI()/B$4))","v":0.42577929156507172},{"$f":"IF(Resonanzen!$E$19,COS($A50*2*PI()/C$4),SIN($A50*2*PI()/C$4))","v":-0.77051324277578792},{"$f":"IF(Resonanzen!$E$19,COS($A50*2*PI()/D$4),SIN($A50*2*PI()/D$4))","v":0.96858316112863019},{"$f":"IF(Resonanzen!$E$19,COS($A50*2*PI()/E$4),SIN($A50*2*PI()/E$4))","v":-0.9822872507286895},{"$f":"IF(Resonanzen!$E$19,COS($A50*2*PI()/F$4),SIN($A50*2*PI()/F$4))","v":0.80901699437495023}]
[{"$f":"A50+Resonanzen!$C$2/50","v":0.88000000000000045},{"$f":"IF(Resonanzen!$E$19,COS($A51*2*PI()/B$4),SIN($A51*2*PI()/B$4))","v":0.36812455268467692},{"$f":"IF(Resonanzen!$E$19,COS($A51*2*PI()/C$4),SIN($A51*2*PI()/C$4))","v":-0.68454710592868706},{"$f":"IF(Resonanzen!$E$19,COS($A51*2*PI()/D$4),SIN($A51*2*PI()/D$4))","v":0.90482705246601769},{"$f":"IF(Resonanzen!$E$19,COS($A51*2*PI()/E$4),SIN($A51*2*PI()/E$4))","v":-0.99802672842827123},{"$f":"IF(Resonanzen!$E$19,COS($A51*2*PI()/F$4),SIN($A51*2*PI()/F$4))","v":0.95105651629515509}]
[{"$f":"A51+Resonanzen!$C$2/50","v":0.90000000000000047},{"$f":"IF(Resonanzen!$E$19,COS($A52*2*PI()/B$4),SIN($A52*2*PI()/B$4))","v":0.30901699437494629},{"$f":"IF(Resonanzen!$E$19,COS($A52*2*PI()/C$4),SIN($A52*2*PI()/C$4))","v":-0.58778525229247114},{"$f":"IF(Resonanzen!$E$19,COS($A52*2*PI()/D$4),SIN($A52*2*PI()/D$4))","v":0.80901699437494445},{"$f":"IF(Resonanzen!$E$19,COS($A52*2*PI()/E$4),SIN($A52*2*PI()/E$4))","v":-0.95105651629515209},{"$f":"IF(Resonanzen!$E$19,COS($A52*2*PI()/F$4),SIN($A52*2*PI()/F$4))","v":1}]
[{"$f":"A52+Resonanzen!$C$2/50","v":0.92000000000000048},{"$f":"IF(Resonanzen!$E$19,COS($A53*2*PI()/B$4),SIN($A53*2*PI()/B$4))","v":0.24868988716485352},{"$f":"IF(Resonanzen!$E$19,COS($A53*2*PI()/C$4),SIN($A53*2*PI()/C$4))","v":-0.48175367410171299},{"$f":"IF(Resonanzen!$E$19,COS($A53*2*PI()/D$4),SIN($A53*2*PI()/D$4))","v":0.68454710592868584},{"$f":"IF(Resonanzen!$E$19,COS($A53*2*PI()/E$4),SIN($A53*2*PI()/E$4))","v":-0.8443279255020123},{"$f":"IF(Resonanzen!$E$19,COS($A53*2*PI()/F$4),SIN($A53*2*PI()/F$4))","v":0.95105651629515153}]
[{"$f":"A53+Resonanzen!$C$2/50","v":0.9400000000000005},{"$f":"IF(Resonanzen!$E$19,COS($A54*2*PI()/B$4),SIN($A54*2*PI()/B$4))","v":0.18738131458572327},{"$f":"IF(Resonanzen!$E$19,COS($A54*2*PI()/C$4),SIN($A54*2*PI()/C$4))","v":-0.36812455268467537},{"$f":"IF(Resonanzen!$E$19,COS($A54*2*PI()/D$4),SIN($A54*2*PI()/D$4))","v":0.53582679497899266},{"$f":"IF(Resonanzen!$E$19,COS($A54*2*PI()/E$4),SIN($A54*2*PI()/E$4))","v":-0.68454710592868462},{"$f":"IF(Resonanzen!$E$19,COS($A54*2*PI()/F$4),SIN($A54*2*PI()/F$4))","v":0.80901699437494357}]
[{"$f":"A54+Resonanzen!$C$2/50","v":0.96000000000000052},{"$f":"IF(Resonanzen!$E$19,COS($A55*2*PI()/B$4),SIN($A55*2*PI()/B$4))","v":0.12533323356430279},{"$f":"IF(Resonanzen!$E$19,COS($A55*2*PI()/C$4),SIN($A55*2*PI()/C$4))","v":-0.24868988716485191},{"$f":"IF(Resonanzen!$E$19,COS($A55*2*PI()/D$4),SIN($A55*2*PI()/D$4))","v":0.36812455268467298},{"$f":"IF(Resonanzen!$E$19,COS($A55*2*PI()/E$4),SIN($A55*2*PI()/E$4))","v":-0.48175367410171011},{"$f":"IF(Resonanzen!$E$19,COS($A55*2*PI()/F$4),SIN($A55*2*PI()/F$4))","v":0.58778525229246781}]
[{"$f":"A55+Resonanzen!$C$2/50","v":0.98000000000000054},{"$f":"IF(Resonanzen!$E$19,COS($A56*2*PI()/B$4),SIN($A56*2*PI()/B$4))","v":6.2790519529311806E-2},{"$f":"IF(Resonanzen!$E$19,COS($A56*2*PI()/C$4),SIN($A56*2*PI()/C$4))","v":-0.12533323356430112},{"$f":"IF(Resonanzen!$E$19,COS($A56*2*PI()/D$4),SIN($A56*2*PI()/D$4))","v":0.18738131458571869},{"$f":"IF(Resonanzen!$E$19,COS($A56*2*PI()/E$4),SIN($A56*2*PI()/E$4))","v":-0.24868988716484872},{"$f":"IF(Resonanzen!$E$19,COS($A56*2*PI()/F$4),SIN($A56*2*PI()/F$4))","v":0.30901699437494123}]
[{"$f":"A56+Resonanzen!$C$2/50","v":1.0000000000000004},{"$f":"IF(Resonanzen!$E$19,COS($A57*2*PI()/B$4),SIN($A57*2*PI()/B$4))","v":-1.2097527840593258E-15},{"$f":"IF(Resonanzen!$E$19,COS($A57*2*PI()/C$4),SIN($A57*2*PI()/C$4))","v":2.4195055681186517E-15},{"$f":"IF(Resonanzen!$E$19,COS($A57*2*PI()/D$4),SIN($A57*2*PI()/D$4))","v":-4.9615259817281654E-15},{"$f":"IF(Resonanzen!$E$19,COS($A57*2*PI()/E$4),SIN($A57*2*PI()/E$4))","v":4.8390111362373034E-15},{"$f":"IF(Resonanzen!$E$19,COS($A57*2*PI()/F$4),SIN($A57*2*PI()/F$4))","v":-4.7164962907464414E-15}]